BEGIN:VCALENDAR
VERSION:2.0
PRODID:-//Hudson Creative Hub - ECPv6.15.12.2//NONSGML v1.0//EN
CALSCALE:GREGORIAN
METHOD:PUBLISH
X-ORIGINAL-URL:https://hudsoncreativehub.org
X-WR-CALDESC:Events for Hudson Creative Hub
REFRESH-INTERVAL;VALUE=DURATION:PT1H
X-Robots-Tag:noindex
X-PUBLISHED-TTL:PT1H
BEGIN:VTIMEZONE
TZID:UTC
BEGIN:STANDARD
TZOFFSETFROM:+0000
TZOFFSETTO:+0000
TZNAME:UTC
DTSTART:20240101T000000
END:STANDARD
END:VTIMEZONE
BEGIN:VEVENT
DTSTART;TZID=UTC:20260325T200000
DTEND;TZID=UTC:20260325T220000
DTSTAMP:20260423T180230
CREATED:20260116T124722Z
LAST-MODIFIED:20260315T143944Z
UID:10002133-1774468800-1774476000@hudsoncreativehub.org
SUMMARY:Sultans of String - Live In Concert
DESCRIPTION:Join us for an intimate evening with Sultans of String\, one of Canada’s most celebrated and boundary-crossing musical groups\, presented in a special trio format at the Hudson Creative Hub. \n\nWednesday\, March 25\nDoors at 7pm\, show at 8pm\n\n \n  \nKnown for their dazzling musicianship and deep sense of musical connection\, Sultans of String blend elements of folk\, roots\, flamenco\, and global traditions into performances that are both virtuosic and deeply human. Their music tells stories — of place\, of collaboration\, and of the power of listening across cultures. \nThis show features: \n\nChris McKhool:  Queen’s Diamond Jubilee medal recipient and multiple award winner Chris McKhool is the driving force behind BILLBOARD-charting Sultans of String. A virtuoso violinist and visionary collaborator\, he has performed and recorded with artists ranging from Béla Fleck to The Chieftains\, while creating powerful cross-cultural projects with Indigenous artists across Turtle Island.\nKevin Laliberté: Internationally acclaimed guitarist Kevin Laliberté blends flamenco fire\, Latin rhythms\, jazz sophistication\, and pop lyricism into a sound that is both virtuosic and deeply expressive.\nSaskia Tomkins: Multi-instrumentalist Saskia Tomkins is a master of violin\, viola\, cello\, and nyckelharpa — and is equally at home in classical\, jazz\, and Celtic traditions. An award-winning Irish fiddler and sought-after cultural consultant (including for Broadway’s Come From Away)\, Saskia brings authenticity\, depth\, and dazzling musicianship to every stage she graces.\n\nThis cabaret-style Listening Room concert offers a rare chance to experience the trio up close\, in a relaxed setting that invites attention\, conversation\, and shared experience. Expect an evening that is warm\, engaging\, and musically rich — equally compelling for longtime fans and those discovering the band for the first time. \nThis performance is part of the 2026 Listening Room Series at the Hudson Creative Hub\, which highlights exceptional artists in intimate\, audience-focused settings. \n🎬 Companion event: On Tuesday\, March 24\, 2026\, the Hub will also host a free screening of Walking Through the Fire\, Sultans of String’s powerful visual album and documentary project inspired by the Truth and Reconciliation Commission’s call for greater collaboration between Indigenous and non-Indigenous artists. The screening offers deeper context into the stories and relationships behind the music and is a meaningful complement to the live concert experience.
URL:https://hudsoncreativehub.org/event/sultans-of-string/
LOCATION:Hudson Creative Hub\, 273 Rue Main Hudson\, Quebec Hudson\, J0P 1H0 Canada\, Quebec\, J0P 1H0\, Canada
CATEGORIES:Concert
ATTACH;FMTTYPE=image/png:https://hudsoncreativehub.org/wp-content/uploads/2026/01/Screenshot-2026-02-18-at-12.19.17-PM.png
END:VEVENT
BEGIN:VEVENT
DTSTART;TZID=UTC:20260228T200000
DTEND;TZID=UTC:20260228T220000
DTSTAMP:20260423T180230
CREATED:20251029T112123Z
LAST-MODIFIED:20260105T195535Z
UID:10001062-1772308800-1772316000@hudsoncreativehub.org
SUMMARY:Steel Rail - Live in Concert
DESCRIPTION:Montreal folk-country trio Steel Rail takes the stage at the Hudson Creative Hub on Saturday\, February 28\, 2026. Praised as “a national treasure” by Canadian critics\, the band has built a devoted following with evocative original songs\, rich three-part harmonies\, and an acoustic sound that blends folk\, bluegrass\, and country traditions. With four acclaimed albums—including Coming Home\, named one of the top albums of 2020 by Penguin Eggs—Steel Rail invites you to an intimate evening of heartfelt songwriting and luminous harmonies. \n\n  \n\n\n\n\n\n\n\n\n\n 
URL:https://hudsoncreativehub.org/event/steel-rail-live-in-concert/
LOCATION:Hudson Creative Hub\, 273 Rue Main Hudson\, Quebec Hudson\, J0P 1H0 Canada\, Quebec\, J0P 1H0\, Canada
CATEGORIES:Concert
ATTACH;FMTTYPE=image/webp:https://hudsoncreativehub.org/wp-content/uploads/2025/10/steel-rail.webp
END:VEVENT
BEGIN:VEVENT
DTSTART;TZID=UTC:20260117T140000
DTEND;TZID=UTC:20260117T160000
DTSTAMP:20260423T180230
CREATED:20260105T200415Z
LAST-MODIFIED:20260112T193542Z
UID:10002132-1768658400-1768665600@hudsoncreativehub.org
SUMMARY:Hudson Songwriters Spotlight
DESCRIPTION:Join us for a special Songwriters Spotlight on Saturday\, January 17 celebrating the depth\, diversity\, and heart of Hudson’s local songwriting community. Please note this is a matinee show: doors at 1pm\, show at 2pm. \nInspired by the classic Nashville-style song circle\, this intimate concert brings ten local songwriters together on stage. Five artists at a time will share the spotlight\, taking turns performing two original songs each. Some will play solo\, others may support one another — creating a collaborative\, in-the-round experience where the songs (and the stories behind them) take centre stage. \nAll of this edition’s featured songwriters are familiar faces from the Microbrasserie Cardinal Sunday Songwriting Circle and monthly All Originals Open Mic — community spaces where new songs are nurtured\, workshopped\, and shared. This event brings that creative energy into a listening-room setting\, offering audiences a rare chance to hear original music up close. \nHosted by Briana Doyle\, the evening features performances by: \n\nSeiji Gutierrez\nEric Joyal\nWill McGowan\nJason Fry\nSuzie Joseph\nAlan Hunt\nAyoub Drissi\nGerry Legault\nAndy Dahl\n\nExpect an evening that’s honest\, generous\, and rooted in community — a celebration of original music created and shared right here in Hudson.
URL:https://hudsoncreativehub.org/event/hudson-songwriters-spotlight/
LOCATION:Hudson Creative Hub\, 273 Rue Main Hudson\, Quebec Hudson\, J0P 1H0 Canada\, Quebec\, J0P 1H0\, Canada
CATEGORIES:Concert,Fundraiser
ATTACH;FMTTYPE=image/jpeg:https://hudsoncreativehub.org/wp-content/uploads/2026/01/Songwriter-Spotlight-FB-cover-e1767643402684.jpg
END:VEVENT
BEGIN:VEVENT
DTSTART;TZID=UTC:20251214T150000
DTEND;TZID=UTC:20251214T170000
DTSTAMP:20260423T180230
CREATED:20251121T172529Z
LAST-MODIFIED:20251203T174505Z
UID:10001064-1765724400-1765731600@hudsoncreativehub.org
SUMMARY:Gino Quilico's The Secret of Christmas
DESCRIPTION:The Secret of Christmas – A Holiday Fundraiser for the Hudson Creative Hub \n\n\n\nSunday\, December 14 at 3:00 p.m.St. Thomas Church – 413 Main Road\, Hudson🎟️ Tickets: $50 | Children under 15: Free \n\n\n\nCelebrate the magic of the season with world-renowned baritone Gino Quilico\, Officer of the Order of Canada and Chevalier de l’Ordre National du Québec. Known for his rich voice and heartfelt performances on the world’s greatest stages — from the Metropolitan Opera to La Scala — Gino brings his holiday concert The Secret of Christmas to Hudson for one unforgettable afternoon. \n\n\n\nAccompanied by pianist John Roney and joined by the Hudson Community Choir\, Gino will perform timeless classics from his acclaimed album The Secrets of Christmas\, including White Christmas\, Ave Maria\, The Lord’s Prayer\, Silent Night\, O Holy Night\, Gesu Bambino\, and more. \n\n\n\nAll proceeds from this special fundraising concert will support the Hudson Creative Hub’s arts and community programs. Following the performance\, Gino will be available to meet audience members and sign CDs. \n\n\n\nCome share in the warmth\, beauty\, and spirit of the season — right here in the heart of Hudson. \n\n\n\n\n\n\n\n\n\n 
URL:https://hudsoncreativehub.org/event/gino-quilicos-the-secret-of-christmas/
LOCATION:St Thomas Church\, 413 rue Main\, Hudson\, Quebec\, J0P 1H0\, Canada
CATEGORIES:Concert,Fundraiser
ATTACH;FMTTYPE=image/png:https://hudsoncreativehub.org/wp-content/uploads/2025/11/Secret-of-Christmas.png
END:VEVENT
BEGIN:VEVENT
DTSTART;TZID=UTC:20251204T193000
DTEND;TZID=UTC:20251204T213000
DTSTAMP:20260423T180230
CREATED:20251203T065258Z
LAST-MODIFIED:20251203T174424Z
UID:10001065-1764876600-1764883800@hudsoncreativehub.org
SUMMARY:Robert Cassius de Linval: In Conversation with Clint Ward
DESCRIPTION:Enjoy an evening of inspiring conversation as Clint Ward interviews Robert Cassius de Linval\, the current Chair of the Paralympic Foundation of Canada. This event is FREE to attend. To save your spot\, please reserve a ticket.
URL:https://hudsoncreativehub.org/event/robert-cassius-de-linval-in-conversation-with-clint-ward/
LOCATION:Hudson Creative Hub\, 273 Rue Main Hudson\, Quebec Hudson\, J0P 1H0 Canada\, Quebec\, J0P 1H0\, Canada
CATEGORIES:Concert
ATTACH;FMTTYPE=image/png:https://hudsoncreativehub.org/wp-content/uploads/2025/12/In-Conversation-With_with-logo_EN-768x768-1.png
END:VEVENT
BEGIN:VEVENT
DTSTART;TZID=UTC:20251122T200000
DTEND;TZID=UTC:20251122T220000
DTSTAMP:20260423T180230
CREATED:20251029T110717Z
LAST-MODIFIED:20251121T230750Z
UID:10001058-1763841600-1763848800@hudsoncreativehub.org
SUMMARY:Ian Tamblyn
DESCRIPTION:Folk icon Ian Tamblyn brings over five decades of songs and stories to the Hudson Creative Hub on Saturday\, November 22. A Juno Award winner and Officer of the Order of Canada\, Ian has released more than forty albums\, written seventeen plays\, and earned acclaim as one of Canada’s most enduring and celebrated folk voices. With warmth\, humour\, and masterful storytelling\, he invites you to an intimate evening of music rooted in the landscapes and spirit of this country. \n\n\n\n\n\n\n\n\n\n 
URL:https://hudsoncreativehub.org/event/ian-tamblyn/
LOCATION:Hudson Creative Hub\, 273 Rue Main Hudson\, Quebec Hudson\, J0P 1H0 Canada\, Quebec\, J0P 1H0\, Canada
CATEGORIES:Concert
ATTACH;FMTTYPE=image/jpeg:https://hudsoncreativehub.org/wp-content/uploads/2025/10/ian-tamblyn-e1762526907249.jpg
END:VEVENT
BEGIN:VEVENT
DTSTART;TZID=UTC:20251025T200000
DTEND;TZID=UTC:20251025T220000
DTSTAMP:20260423T180230
CREATED:20251008T072209Z
LAST-MODIFIED:20251025T201212Z
UID:10000006-1761422400-1761429600@hudsoncreativehub.org
SUMMARY:Jeffrey Straker Live in Concert
DESCRIPTION:Prairie-born singer-songwriter and pianist Jeffery Straker brings his warm\, witty\, and heartfelt songs to the Hudson Creative Hub on Saturday\, October 25. Performing over 100 shows per year across Canada\, Europe\, and Latin America\, Jeffery has earned a devoted following with his piano-driven blend of folk\, pop\, and roots storytelling. With a charismatic stage presence and songs that carry both humour and heart\, he invites you to an intimate evening of music that feels at once personal and universal. \nDoors at 7pm\, show at 8pm.
URL:https://hudsoncreativehub.org/event/jeffrey-straker-live-in-concert/
LOCATION:Hudson Creative Hub\, 273 Rue Main Hudson\, Quebec Hudson\, J0P 1H0 Canada\, Quebec\, J0P 1H0\, Canada
CATEGORIES:Concert
ATTACH;FMTTYPE=image/png:https://hudsoncreativehub.org/wp-content/uploads/2025/10/Straker-IG-600x600-1.png
END:VEVENT
END:VCALENDAR