BEGIN:VCALENDAR
VERSION:2.0
PRODID:-//Hudson Creative Hub - ECPv6.15.12.2//NONSGML v1.0//EN
CALSCALE:GREGORIAN
METHOD:PUBLISH
X-ORIGINAL-URL:https://hudsoncreativehub.org
X-WR-CALDESC:Events for Hudson Creative Hub
REFRESH-INTERVAL;VALUE=DURATION:PT1H
X-Robots-Tag:noindex
X-PUBLISHED-TTL:PT1H
BEGIN:VTIMEZONE
TZID:UTC
BEGIN:STANDARD
TZOFFSETFROM:+0000
TZOFFSETTO:+0000
TZNAME:UTC
DTSTART:20250101T000000
END:STANDARD
END:VTIMEZONE
BEGIN:VEVENT
DTSTART;TZID=UTC:20260425T200000
DTEND;TZID=UTC:20260425T220000
DTSTAMP:20260423T164407
CREATED:20260409T024739Z
LAST-MODIFIED:20260415T175545Z
UID:10002149-1777147200-1777154400@hudsoncreativehub.org
SUMMARY:Concert - Tous Les Temps Perdus with Miriam Sekhon & Liza Miller
DESCRIPTION:A Lifetime of Friendship in Song: From Cabaret to Modern Chanson\nMiriam Sekhon and Liza Miller have known each other since childhood. They grew up in Moscow\, side by side\, long before music became an experience they would share on stage. \nAfter the Russian invasion of Ukraine\, they each left the country and\, by chance\, both found their way to Montreal. \nThough they have been friends all their lives\, it is here that they became musical partners\, discovering in that closeness a new kind of comfort — something steady\, instinctive\, and deeply familiar. \nFor one evening\, they turn the space into a piano bar — a salon moving through languages and the 20th century. The program drifts between jazz\, chanson\, and film music\, carried by a natural ease\, a quiet playfulness\, and a stage presence rooted in trust. There is between them an understanding that rarely needs words.
URL:https://hudsoncreativehub.org/event/tous-les-temps-perdus-miriam-sekhon-liza-miller/
LOCATION:Hudson Creative Hub\, 273 Rue Main Hudson\, Quebec Hudson\, J0P 1H0 Canada\, Quebec\, J0P 1H0\, Canada
CATEGORIES:Concert
ATTACH;FMTTYPE=image/jpeg:https://hudsoncreativehub.org/wp-content/uploads/2026/04/Tous-les-temps-perdus.jpg
END:VEVENT
END:VCALENDAR