BEGIN:VCALENDAR
VERSION:2.0
PRODID:-//Hudson Creative Hub - ECPv6.15.12.2//NONSGML v1.0//EN
CALSCALE:GREGORIAN
METHOD:PUBLISH
X-ORIGINAL-URL:https://hudsoncreativehub.org
X-WR-CALDESC:Events for Hudson Creative Hub
REFRESH-INTERVAL;VALUE=DURATION:PT1H
X-Robots-Tag:noindex
X-PUBLISHED-TTL:PT1H
BEGIN:VTIMEZONE
TZID:UTC
BEGIN:STANDARD
TZOFFSETFROM:+0000
TZOFFSETTO:+0000
TZNAME:UTC
DTSTART:20250101T000000
END:STANDARD
END:VTIMEZONE
BEGIN:VEVENT
DTSTART;TZID=UTC:20260402T200000
DTEND;TZID=UTC:20260402T220000
DTSTAMP:20260423T174412
CREATED:20260218T182753Z
LAST-MODIFIED:20260313T174658Z
UID:10002138-1775160000-1775167200@hudsoncreativehub.org
SUMMARY:[SOLD OUT] BABES\, BABES\, BABES! Burlesque and Drag Show
DESCRIPTION:Don’t miss this jam-packed\, laugh-out-loud\, adults-only cabaret! The show combines burlesque\, drag\, comedy\, extravagant costumes\, showstopping group numbers and naughty humour in a raucous spectacle that will leave you wanting more! \nFeaturing an award winning cast of cabaret artists\, each at the top of their field\, the BABES show is the perfect way to spice up your night! \nIn addition to all the sultry teases\, the naughty jokes\, and the sparkly thongs\, the Babes celebrate sexuality\, LGBTQ identities\, and body confidence with inspiring performances and heartfelt moments. \nPerfect for a date night\, a celebration or a girl’s night out. So grab a ticket\, grab a beverage and indulge in this special adults only evening of cabaret entertainment! \nWhat audiences say: \n“Didn’t know what to expect\, could not stop laughing\, and clapping what a fantastic show ! I hope you come back”- Philly M\, Owen Sound ON \n“An unforgettable night of body positive performances\, creativity and pure talent. The Babes always bring the fun” – Erin S.\, Stratford ON \n“FANTASTIC AMAZING HILARIOUS BEAUTIFUL ENTERTAINMENT!!! Come back to the island again!! And to a bigger venue! There was so many others that wanted to come\, but it was sold out! ❤ You all were wonderful! Good luck on the rest of your tour!” – Jess B.\, Charlottetown PEI \nSHOW SCHEDULE\nDoors at 7:00\, Show at 8:00 PM\nThe show is approx 120 minutes total. This includes a 20 min. intermission. \nFEATURING:\nWorld’s #1 Babe: BonBon Bombay\nRuthless Babe: Wrong Note Rusty\nWhatta Babe: Selena Vyle\nAnd The Babe Himself: James & The Giant Pasty \nINFO AND TOUR SCHEDULE\nThe Babes toured to 20+ cities from Ontario to Newfoundland in 2025. For full details and schedule on the show and their 2026 tour\, check out babesburlesque.com. \n 
URL:https://hudsoncreativehub.org/event/babes-babes-babes-burlesque-and-drag-show/
LOCATION:Hudson Creative Hub\, 273 Rue Main Hudson\, Quebec Hudson\, J0P 1H0 Canada\, Quebec\, J0P 1H0\, Canada
CATEGORIES:Comedy,Drag Show,LGBTQ+,Theatre
ATTACH;FMTTYPE=image/jpeg:https://hudsoncreativehub.org/wp-content/uploads/2026/02/Babes_Banner_2160x1080.jpg
END:VEVENT
END:VCALENDAR