BEGIN:VCALENDAR
VERSION:2.0
PRODID:-//Hudson Creative Hub - ECPv6.15.12.2//NONSGML v1.0//EN
CALSCALE:GREGORIAN
METHOD:PUBLISH
X-ORIGINAL-URL:https://hudsoncreativehub.org
X-WR-CALDESC:Events for Hudson Creative Hub
REFRESH-INTERVAL;VALUE=DURATION:PT1H
X-Robots-Tag:noindex
X-PUBLISHED-TTL:PT1H
BEGIN:VTIMEZONE
TZID:UTC
BEGIN:STANDARD
TZOFFSETFROM:+0000
TZOFFSETTO:+0000
TZNAME:UTC
DTSTART:20250101T000000
END:STANDARD
END:VTIMEZONE
BEGIN:VEVENT
DTSTART;TZID=UTC:20260121T190000
DTEND;TZID=UTC:20260121T210000
DTSTAMP:20260423T205107
CREATED:20251217T182252Z
LAST-MODIFIED:20251217T182252Z
UID:10002130-1769022000-1769029200@hudsoncreativehub.org
SUMMARY:Applied Improv
DESCRIPTION:The experiential value of play\, spontaneity and intuition promotes personal and professional growth\, and nurtures innovation. \nImprov emphasizes on generosity\, cooperation\, trust\, and experimentation which counterbalances fear\, and releases creativity. \nCo-creativity is a life-skill that helps individuals live more meaningfully\, and drives organizational performance. \nCome try it out and change your life. No experience necessary. \n8 weeks starting January 21 to March 11th \nWednesdays from 7:00 pm to 9:00 pm \nAt The Hudson Creative Hub 273 Main Road\, Hudson \nCost $225 \nContact Mary Vuorela at 514-971-9872 or mary.vuorela@sympatico.ca for more information
URL:https://hudsoncreativehub.org/event/applied-improv/
LOCATION:Hudson Creative Hub\, 273 Rue Main Hudson\, Quebec Hudson\, J0P 1H0 Canada\, Quebec\, J0P 1H0\, Canada
CATEGORIES:Program,Theatre
ATTACH;FMTTYPE=image/png:https://hudsoncreativehub.org/wp-content/uploads/2025/12/applied-improv_EN.png
END:VEVENT
END:VCALENDAR